BEGIN:VCALENDAR
VERSION:2.0
PRODID:-//French College - ECPv6.15.13//NONSGML v1.0//EN
CALSCALE:GREGORIAN
METHOD:PUBLISH
X-ORIGINAL-URL:https://french.college
X-WR-CALDESC:Events for French College
REFRESH-INTERVAL;VALUE=DURATION:PT1H
X-Robots-Tag:noindex
X-PUBLISHED-TTL:PT1H
BEGIN:VTIMEZONE
TZID:UTC
BEGIN:STANDARD
TZOFFSETFROM:+0000
TZOFFSETTO:+0000
TZNAME:UTC
DTSTART:20240101T000000
END:STANDARD
END:VTIMEZONE
BEGIN:VEVENT
DTSTART;VALUE=DATE:20250808
DTEND;VALUE=DATE:20260101
DTSTAMP:20260421T214539
CREATED:20240821T090239Z
LAST-MODIFIED:20250808T135142Z
UID:8571-1754611200-1767225599@french.college
SUMMARY:Al-Walah Research Competition – 2025
DESCRIPTION:About The Event\nThe college encourages its students and academic staff to participate in\nthis prestigious scientific competition\, which fosters excellence in research\nacross various disciplines. \n  \nInteractive Workshops: \nConnect with like-minded individuals\, professionals\, and mentors. Build a network that will support your personal and professional growth\, fostering collaboration and idea exchange. \n  \nINetworking Opportunities: \nHear from renowned thought leaders who will delve into topics such as artificial intelligence\, sustainability\, and the future of work. Gain valuable perspectives to help you thrive. \n  \nNetworking Opportunities: \nHear from renowned thought leaders who will delve into topics such as artificial intelligence\, sustainability\, and the future of work. Gain valuable perspectives. \n  \nRegistration: \nSecure your spot today and be part of the Future Minds Symposium. Early bird registration is now open at www.Unipix Don’t miss this opportunity to gain valuable insights. \nINFORMATION \nDate & Time:\nAugust 20\, 2024\n–\nDecember 31\, 2025 \nCost:\nFree \nCategories:\nInternational Conference \nOrganizer\nAssistant Teacher\nPhone:\n\n-254 457 658  \nWebsite:\nView Organizer Website \nEmail:\n\norganize@info.com  \nVANUE \nEvent Speakers\n\nRick Zonson\nAssistant Teacher \n\nFacebook-f\n\n\nTwitter\n\n\nInstagram\n\n\nRt-linkedin-in\n \n\nThomas Fred\nTeacher \n\nFacebook-f\n\n\nTwitter\n\n\nInstagram\n\n\nRt-linkedin-in\n \n\nAlbert Mack\nHead Teacher \n\nFacebook-f\n\n\nTwitter\n\n\nInstagram\n\n\nRt-linkedin-in\n \n\nMicheal Alfred\nAssistant Teacher \n\nFacebook-f\n\n\nTwitter\n\n\nInstagram\n\n\nRt-linkedin-in\n \nRelated Event\n \nApril 1\, 2026 \n9:02 am \nInternational Conference on People of Determination\nUnited Arab Emirates
URL:https://french.college/event/al-walah-research-competition-2025/
CATEGORIES:International Conference
ATTACH;FMTTYPE=image/webp:https://french.college/wp-content/uploads/2024/08/img-23.webp
ORGANIZER;CN="Assistant Teacher":MAILTO:organize@info.com
END:VEVENT
BEGIN:VEVENT
DTSTART;TZID=UTC:20250904T080000
DTEND;TZID=UTC:20250904T170000
DTSTAMP:20260421T214539
CREATED:20250909T143454Z
LAST-MODIFIED:20250909T143454Z
UID:13395-1756972800-1757005200@french.college
SUMMARY:Metaverse Technologies in Distance Learning and Education
DESCRIPTION:The French College Organizes a Scientific Session Titled: “Metaverse Technologies in Distance Learning and Education”\n\n\nAbu Dhabi – September 4\, 2025\n\n\nThis Thursday evening\, The French College held a distinguished scientific session under the title:\n“Metaverse Technologies in Distance Learning and Education: Future Horizons and Applications”\nat the college’s campus located on Airport Street.\n\n\nThe session commenced with the esteemed presence of prominent faculty members. We were honored by the attendance of Dr. Jamila Khanji\, Head of the Department of Future Studies and Institutional Innovation\, who delivered an opening speech highlighting the importance of digital transformation and the role of innovation in the future of education.\n\n\nThe session also welcomed contributions from:\n– Dr. Saeed Hindi – Vice Dean for Administrative Affairs\n– Dr. Maher Mukhammara – Director of the Consultation and Training Center\n– Dr. Bilal Khater – Head of the Department of Technology and Artificial Intelligence\nThe session explored the latest developments in the Metaverse and the potential of integrating these technologies into distance learning to enhance the overall student experience in interactive digital environments.\n\n\nThe event concluded with an honorary dinner held in appreciation of all attendees\, fostering a spirit of academic exchange and collaboration.
URL:https://french.college/event/metaverse-technologies-in-distance-learning-and-education/
LOCATION:Abu Dhabi\, United Arab Emirates
CATEGORIES:Computer Science
ATTACH;FMTTYPE=image/jpeg:https://french.college/wp-content/uploads/2025/09/541641755_122171310404544537_2616634280511394874_n.jpg
END:VEVENT
END:VCALENDAR